BEGIN:VCALENDAR
VERSION:2.0
PRODID:-//Kate Jobe - ECPv5.3.2.1//NONSGML v1.0//EN
CALSCALE:GREGORIAN
METHOD:PUBLISH
X-WR-CALNAME:Kate Jobe
X-ORIGINAL-URL:https://katejobe.com
X-WR-CALDESC:Events for Kate Jobe
BEGIN:VTIMEZONE
TZID:Europe/Paris
BEGIN:DAYLIGHT
TZOFFSETFROM:+0100
TZOFFSETTO:+0200
TZNAME:CEST
DTSTART:20200329T010000
END:DAYLIGHT
BEGIN:STANDARD
TZOFFSETFROM:+0200
TZOFFSETTO:+0100
TZNAME:CET
DTSTART:20201025T010000
END:STANDARD
END:VTIMEZONE
BEGIN:VEVENT
DTSTART;VALUE=DATE:20200120
DTEND;VALUE=DATE:20201124
DTSTAMP:20260422T171121
CREATED:20210108T110907Z
LAST-MODIFIED:20210222T112748Z
UID:1757-1579478400-1606175999@katejobe.com
SUMMARY:The Art of Process Work 2020: Live Supervision with Kate Jobe
DESCRIPTION:Scroll down for dates  \nThis year we will continue to focus on the various applications of process work: individual work\, dream work\, symptom work\, innerwork\, relationship work and conflict and group work. We will follow the group and individual learning needs as we drill down into the nuts and bolts of process work. In addition we will continue to develop ways to use the skills and tools of process work and integrate them with the ability to use your deepest self as a facilitator. \nThere will be a special month of June where we will focus on group work. \nWe will use Dreammaker.io as a tool for sharpening our analytical abilities. This exciting observation tool helps us identify and discuss what we observe in videos. \nThis class is appropriate for those who have some experience in Process Work\, and who have an interest in learning process work. It is also aimed at those interested in developing advanced skills and in implementing the newest developments in Process Work. \nIt will be taught mostly in English but German when needed. \nDates\nWinter \n\n20 January\n27 January\n3\, 10 February\n02\, 16\, 30 March\n\nSpring \n\n06\, 27 April\n04 May\n\nGroup Work Intensive \n\n08\,15\,22\,29 June\n\nVenue\nInstitut Für Prozessarbeit\nBinzstrasse 9\n8045 Zürich\n17:40 – 20:40 (strange times but train travelers can make the train) \nCosts\nWinter/Spring classes: 20 January – 04 May\, 2020 \nTake less than 8 classes CHF80 per class \nCome to 8 or more classes and pay CHF60 per class \nGroup work Intensive CHF240 \n\n\n	Related
URL:https://katejobe.com/event/supervision-art-process-work-2018/
LOCATION:Institut für Prozessarbeit/Zoom\, Binzstrasse 9\, Zürich\, Switzerland
CATEGORIES:Training seminar
ATTACH;FMTTYPE=image/jpeg:https://katejobe.com/wp-content/uploads/2018/01/image002-1.jpg
ORGANIZER;CN="Kate%20Jobe":MAILTO:kate@katejobe.com
END:VEVENT
END:VCALENDAR